BEGIN:VCALENDAR
VERSION:2.0
PRODID:-//East Orange Chamber of Commerce - ECPv6.15.17//NONSGML v1.0//EN
CALSCALE:GREGORIAN
METHOD:PUBLISH
X-WR-CALNAME:East Orange Chamber of Commerce
X-ORIGINAL-URL:https://www.eastorangechamber.org
X-WR-CALDESC:Events for East Orange Chamber of Commerce
REFRESH-INTERVAL;VALUE=DURATION:PT1H
X-Robots-Tag:noindex
X-PUBLISHED-TTL:PT1H
BEGIN:VTIMEZONE
TZID:UTC
BEGIN:STANDARD
TZOFFSETFROM:+0000
TZOFFSETTO:+0000
TZNAME:UTC
DTSTART:20250101T000000
END:STANDARD
END:VTIMEZONE
BEGIN:VEVENT
DTSTART;TZID=UTC:20260218T140000
DTEND;TZID=UTC:20260218T170000
DTSTAMP:20260420T130338
CREATED:20260216T060847Z
LAST-MODIFIED:20260216T060847Z
UID:1050-1771423200-1771434000@www.eastorangechamber.org
SUMMARY:Test Event
DESCRIPTION:Some infor about event\, also add media to this event posting using the button above
URL:https://www.eastorangechamber.org/event/test-event/
LOCATION:East Orange Library\, 21 S Arlington Ave\, East Orange\, NJ\, 07018
END:VEVENT
END:VCALENDAR