BEGIN:VCALENDAR
VERSION:2.0
PRODID:-//East Orange Chamber of Commerce - ECPv6.15.17//NONSGML v1.0//EN
CALSCALE:GREGORIAN
METHOD:PUBLISH
X-WR-CALNAME:East Orange Chamber of Commerce
X-ORIGINAL-URL:https://www.eastorangechamber.org
X-WR-CALDESC:Events for East Orange Chamber of Commerce
REFRESH-INTERVAL;VALUE=DURATION:PT1H
X-Robots-Tag:noindex
X-PUBLISHED-TTL:PT1H
BEGIN:VTIMEZONE
TZID:UTC
BEGIN:STANDARD
TZOFFSETFROM:+0000
TZOFFSETTO:+0000
TZNAME:UTC
DTSTART:20250101T000000
END:STANDARD
END:VTIMEZONE
BEGIN:VEVENT
DTSTART;TZID=UTC:20260317T160000
DTEND;TZID=UTC:20260317T173000
DTSTAMP:20260420T112337
CREATED:20260303T013655Z
LAST-MODIFIED:20260303T013702Z
UID:1063-1773763200-1773768600@www.eastorangechamber.org
SUMMARY:Lift Grant Family Literacy Event _ Partnership with East Orange School District and Dream Barber Shop
DESCRIPTION:
URL:https://www.eastorangechamber.org/event/lift-grant-family-literacy-event-_-partnership-with-east-orange-school-district-and-dream-barber-shop/
LOCATION:44 Central Ave. East Orange\, NJ 07018\, 44 Central Ave\, East Orange\, NJ\, 07018
END:VEVENT
BEGIN:VEVENT
DTSTART;TZID=UTC:20260317T160000
DTEND;TZID=UTC:20260317T183000
DTSTAMP:20260420T112337
CREATED:20260305T172653Z
LAST-MODIFIED:20260305T172653Z
UID:1085-1773763200-1773772200@www.eastorangechamber.org
SUMMARY:Dream Barbershop
DESCRIPTION:
URL:https://www.eastorangechamber.org/event/dream-barbershop/
LOCATION:44 Central Ave. East Orange\, NJ 07018\, 44 Central Ave\, East Orange\, NJ\, 07018
END:VEVENT
BEGIN:VEVENT
DTSTART;TZID=UTC:20260317T183000
DTEND;TZID=UTC:20260317T203000
DTSTAMP:20260420T112337
CREATED:20260317T220758Z
LAST-MODIFIED:20260317T220758Z
UID:1107-1773772200-1773779400@www.eastorangechamber.org
SUMMARY:Small Business Planning Workshop
DESCRIPTION:
URL:https://www.eastorangechamber.org/event/small-business-planning-workshop/
LOCATION:East Orange Library\, 21 S Arlington Ave\, East Orange\, NJ\, 07018
END:VEVENT
BEGIN:VEVENT
DTSTART;TZID=UTC:20260318T180000
DTEND;TZID=UTC:20260318T203000
DTSTAMP:20260420T112337
CREATED:20260303T014246Z
LAST-MODIFIED:20260303T014601Z
UID:1068-1773856800-1773865800@www.eastorangechamber.org
SUMMARY:General Meeting
DESCRIPTION:
URL:https://www.eastorangechamber.org/event/general-meeting/
LOCATION:East Orange Public Library\, 21 S. Arlington Ave\, East Orange\, NJ\, 07018
END:VEVENT
BEGIN:VEVENT
DTSTART;TZID=UTC:20260318T180000
DTEND;TZID=UTC:20260318T203000
DTSTAMP:20260420T112337
CREATED:20260305T173003Z
LAST-MODIFIED:20260305T173003Z
UID:1087-1773856800-1773865800@www.eastorangechamber.org
SUMMARY:EOCC Monthly Meeting
DESCRIPTION:
URL:https://www.eastorangechamber.org/event/eocc-monthly-meeting/
LOCATION:East Orange Public Library  21 S. Arlington Ave\, East Orange NJ 07017
END:VEVENT
BEGIN:VEVENT
DTSTART;TZID=UTC:20260328T100000
DTEND;TZID=UTC:20260328T120000
DTSTAMP:20260420T112337
CREATED:20260303T012929Z
LAST-MODIFIED:20260324T193356Z
UID:1061-1774692000-1774699200@www.eastorangechamber.org
SUMMARY:Talk to Your Phone: AI That Works for Real Businesses
DESCRIPTION:
URL:https://www.eastorangechamber.org/event/talk-to-your-phone-ai-that-works-for-real-businesses/
LOCATION:NJ
END:VEVENT
BEGIN:VEVENT
DTSTART;TZID=UTC:20260328T100000
DTEND;TZID=UTC:20260328T120000
DTSTAMP:20260420T112337
CREATED:20260305T173243Z
LAST-MODIFIED:20260305T173243Z
UID:1094-1774692000-1774699200@www.eastorangechamber.org
SUMMARY:Talk to your phone
DESCRIPTION:
URL:https://www.eastorangechamber.org/event/talk-to-your-phone/
LOCATION:East Orange Public Library  21 S. Arlington Ave\, East Orange NJ 07017
END:VEVENT
END:VCALENDAR